BEGIN:VCALENDAR
VERSION:2.0
PRODID:-//Tukios.com/
BEGIN:VEVENT
UID:8a63afa0-e584-4f5b-b50d-442348f79975@www.schradercares.com
DTSTAMP:20260422T031444Z
DTSTART:20260422T220000Z
DTEND:20260423T000000Z
SUMMARY:Visitation
DESCRIPTION:
URL:https://www.schradercares.com/obituaries/stephen-karajanis
LOCATION:Schrader, Aragon & Jacoby Funeral Home 2222 Russell Avenue  
	Cheyenne WY 82001
GEO:41.1422793;-104.8094849
END:VEVENT
END:VCALENDAR