BEGIN:VCALENDAR
VERSION:2.0
PRODID:-//Tukios.com/
BEGIN:VEVENT
UID:8c0eef62-8025-4ac3-860b-09e6df9ffd16@www.schradercares.com
DTSTAMP:20260422T031148Z
DTSTART:20260423T173000Z
DTEND:20260423T183000Z
SUMMARY:Funeral Service
DESCRIPTION:
URL:https://www.schradercares.com/obituaries/stephen-karajanis
LOCATION:Holy Apostles Orthodox Christian Church 9505 Hynds Blvd  
	Cheyenne WY 82009
GEO:41.2057069;-104.8360223
END:VEVENT
END:VCALENDAR