BEGIN:VCALENDAR
VERSION:2.0
PRODID:-//Tukios.com/
BEGIN:VEVENT
UID:c05965ee-4d1e-4184-aecb-16b6e1ef5b37@www.schradercares.com
DTSTAMP:20260423T033413Z
DTSTART:20260430T170000Z
DTEND:20260430T180000Z
SUMMARY:Graveside Service
DESCRIPTION:
URL:https://www.schradercares.com/obituaries/timothy-galvin
LOCATION: 8611 Hildreth Road  Cheyenne  82009
GEO:41.1795882;-104.9039304
END:VEVENT
END:VCALENDAR